BEGIN:VCALENDAR
VERSION:2.0
PRODID:-//OCT Water Quality Academy - ECPv6.15.7//NONSGML v1.0//EN
CALSCALE:GREGORIAN
METHOD:PUBLISH
X-WR-CALNAME:OCT Water Quality Academy
X-ORIGINAL-URL:https://albedonetworks.com
X-WR-CALDESC:Events for OCT Water Quality Academy
REFRESH-INTERVAL;VALUE=DURATION:PT1H
X-Robots-Tag:noindex
X-PUBLISHED-TTL:PT1H
BEGIN:VTIMEZONE
TZID:UTC
BEGIN:STANDARD
TZOFFSETFROM:+0000
TZOFFSETTO:+0000
TZNAME:UTC
DTSTART:20250101T000000
END:STANDARD
END:VTIMEZONE
BEGIN:VEVENT
DTSTART;TZID=UTC:20260420T080000
DTEND;TZID=UTC:20260421T160000
DTSTAMP:20260421T082503
CREATED:20260224T142147Z
LAST-MODIFIED:20260224T142147Z
UID:1019-1776672000-1776787200@albedonetworks.com
SUMMARY:Water Treatment Exam Review Grades 1-2
DESCRIPTION:14 Contact Hours/ 1.4 CEUs \nDay 1 – Review and Discuss: \n• Surface Water & Groundwater Treatment\n• Chemical Applications\n• Substances affecting Water Quality\n• Flocculation\n• Sedimentation & Filtration \nDay 2 – Review and Discuss: \n• Water Treatment Mathematics\n• Emphasis will be on:\nConversions\, Basic Formulas\, Volume &\nPressure Calculations \nClick here for more information
URL:https://albedonetworks.com/event/water-treatment-exam-review-grades-1-2/
LOCATION:CA
END:VEVENT
BEGIN:VEVENT
DTSTART;TZID=UTC:20260422T080000
DTEND;TZID=UTC:20260423T160000
DTSTAMP:20260421T082503
CREATED:20260224T142427Z
LAST-MODIFIED:20260224T142427Z
UID:1021-1776844800-1776960000@albedonetworks.com
SUMMARY:Water Treatment Exam Review Grades 3-4
DESCRIPTION:14 Contact Hours/ 1.4 CEUs \nDay 1 – Review and Discuss: \n• System Operations\, Water Chemistry\n• Water Sources\n• System Operations\n• Disinfection\n• Contaminants\n• Coagulation\n• Flocculation\n• Sedimentation & Regulations \nDay 2 – Review and Discuss: \n• Water Treatment Mathematical\nProblems.\n• Emphasis will be on:\nBlending\, Concentration\, Detention\nTime\, Jar Testing\, Flow Rate/Volume\,\nFilter &\nDosage/Fluoride \nClick here for more information
URL:https://albedonetworks.com/event/water-treatment-exam-review-grades-3-4/
LOCATION:CA
END:VEVENT
END:VCALENDAR